BEGIN:VCALENDAR
VERSION:2.0
PRODID:SchoolNow
CALSCALE:GREGORIAN
BEGIN:VEVENT
UID:ffe6bed6-8706-11ef-bb61-0271ad682c47
DTSTAMP:20250110T181810Z
SUMMARY:CDD Board Meeting - Jan. 2025 - CANCELLED
LOCATION:3204 Heartleaf Ave. E.\, Panama City\, FL 32405
URL;VALUE=URI:https://www.sweetbayrescdd4.com/calendar/6796242/cdd-board-me
 eting-jan-2025
DTSTART:20250117T160000Z
DTEND:20250117T170000Z
END:VEVENT
END:VCALENDAR
