BEGIN:VCALENDAR
VERSION:2.0
PRODID:SchoolNow
CALSCALE:GREGORIAN
BEGIN:VEVENT
UID:e1887c72-8706-11ef-8390-0a58a9feac02
DTSTAMP:20241206T205108Z
SUMMARY:CDD Board Meeting - Dec. 2024
LOCATION:3204 Heartleaf Ave. E.\, Panama City\, FL 32405
URL;VALUE=URI:https://www.sweetbayrescdd4.com/calendar/6796241/cdd-board-me
 eting-dec-2024
DTSTART:20241213T190000Z
DTEND:20241213T200000Z
ATTACH;FILENAME=2024-12-13 Agenda Package.pdf;FMTTYPE=application/pdf:https
 ://campussuite-storage.s3.amazonaws.com/prod/1559228/f6d34848-84d4-11ef-aa
 6b-0affe452ef5f/2888138/74ff9088-b413-11ef-afea-0a58a9feac02/file/2024-12-
 13 Agenda Package.pdf
END:VEVENT
END:VCALENDAR
