BEGIN:VCALENDAR
VERSION:2.0
PRODID:SchoolNow
CALSCALE:GREGORIAN
BEGIN:VEVENT
UID:c13ab606-8706-11ef-b7c1-0e51ad788043
DTSTAMP:20241125T191219Z
SUMMARY:CDD Board Meeting - Oct. 2024 - Cancelled
LOCATION:3204 Heartleaf Ave. E.\, Panama City\, FL 32405
URL;VALUE=URI:https://www.sweetbayrescdd4.com/calendar/6796239/cdd-board-me
 eting-oct-2024-cancelled
DTSTART:20241018T150000Z
DTEND:20241018T160000Z
END:VEVENT
END:VCALENDAR
